BEGIN:VCALENDAR
VERSION:2.0
PRODID:-//HealthSource RI - ECPv6.15.20//NONSGML v1.0//EN
CALSCALE:GREGORIAN
METHOD:PUBLISH
X-WR-CALNAME:HealthSource RI
X-ORIGINAL-URL:https://healthsourceri.com
X-WR-CALDESC:Events for HealthSource RI
REFRESH-INTERVAL;VALUE=DURATION:PT1H
X-Robots-Tag:noindex
X-PUBLISHED-TTL:PT1H
BEGIN:VTIMEZONE
TZID:America/New_York
BEGIN:DAYLIGHT
TZOFFSETFROM:-0500
TZOFFSETTO:-0400
TZNAME:EDT
DTSTART:20200308T070000
END:DAYLIGHT
BEGIN:STANDARD
TZOFFSETFROM:-0400
TZOFFSETTO:-0500
TZNAME:EST
DTSTART:20201101T060000
END:STANDARD
BEGIN:DAYLIGHT
TZOFFSETFROM:-0500
TZOFFSETTO:-0400
TZNAME:EDT
DTSTART:20210314T070000
END:DAYLIGHT
BEGIN:STANDARD
TZOFFSETFROM:-0400
TZOFFSETTO:-0500
TZNAME:EST
DTSTART:20211107T060000
END:STANDARD
BEGIN:DAYLIGHT
TZOFFSETFROM:-0500
TZOFFSETTO:-0400
TZNAME:EDT
DTSTART:20220313T070000
END:DAYLIGHT
BEGIN:STANDARD
TZOFFSETFROM:-0400
TZOFFSETTO:-0500
TZNAME:EST
DTSTART:20221106T060000
END:STANDARD
END:VTIMEZONE
BEGIN:VEVENT
DTSTART;TZID=America/New_York:20211006T113000
DTEND;TZID=America/New_York:20211006T120000
DTSTAMP:20260422T130555
CREATED:20210823T144058Z
LAST-MODIFIED:20210823T144058Z
UID:14085-1633519800-1633521600@healthsourceri.com
SUMMARY:Virtual Enrollment Info Session - 10.06.21
DESCRIPTION:Open Enrollment is almost here! \nJoin us for our virtual Enrollment Info Session where you will hear from HealthSource RI and RIHCA staff\, learn more about how we can help you sign up for coverage through our Special Enrollment period. This presentation is held via ZOOM Webinar. Your privacy is our top priority and attendees will not see each other’s faces\, questions\, or contact information.\n\nCan’t make the presentation? Don’t worry! Navigators will be available via phone to provide same-day 1-on-1 enrollment support after the presentation. Use the link below to see what dates and times lots are available:\nhttps://book.appointment-plus.com/ck1m3d5c/#/\n\n\n\n\n\nTo enroll or renew during your Navigator appointment\, please bring the following documents for all members of your family: \n\nLast 4 weeks of pay stubs\nSocial Security numbers\nMost recent tax return\n\nPrimary applicants should have: \n\nPhoto ID (driver’s license or passport)\nYour HealthSource RI username and password if you’ve already created an account\nAny recent HealthSource RI or Medicaid notices that you have received\n\nHealthSource RI is Rhode Island’s health insurance marketplace\, here to connect you with high-quality\, low-cost or no-cost coverage from top insurers. Health insurance is required in the state of Rhode Island. Sign up today to avoid a penalty later.
URL:https://healthsourceri.com/event/virtual-enrollment-info-session-10-06-21/
LOCATION:ZOOM Link
CATEGORIES:Individuals & Families
END:VEVENT
BEGIN:VEVENT
DTSTART;TZID=America/New_York:20211019T093000
DTEND;TZID=America/New_York:20211019T100000
DTSTAMP:20260422T130555
CREATED:20210823T145002Z
LAST-MODIFIED:20210823T145002Z
UID:14086-1634635800-1634637600@healthsourceri.com
SUMMARY:Virtual Enrollment Info Session - 10.19.21
DESCRIPTION:Open Enrollment is almost here! \nJoin us for our virtual Enrollment Info Session where you will hear from HealthSource RI and RIHCA staff\, learn more about how we can help you sign up for coverage through our Special Enrollment period. This presentation is held via ZOOM Webinar. Your privacy is our top priority and attendees will not see each other’s faces\, questions\, or contact information.\n\nCan’t make the presentation? Don’t worry! Navigators will be available via phone to provide same-day 1-on-1 enrollment support after the presentation. Use the link below to see what dates and times lots are available:\nhttps://book.appointment-plus.com/ck1m3d5c/#/\n\n\n\n\n\nTo enroll or renew during your Navigator appointment\, please bring the following documents for all members of your family: \n\nLast 4 weeks of pay stubs\nSocial Security numbers\nMost recent tax return\n\nPrimary applicants should have: \n\nPhoto ID (driver’s license or passport)\nYour HealthSource RI username and password if you’ve already created an account\nAny recent HealthSource RI or Medicaid notices that you have received\n\nHealthSource RI is Rhode Island’s health insurance marketplace\, here to connect you with high-quality\, low-cost or no-cost coverage from top insurers. Health insurance is required in the state of Rhode Island. Sign up today to avoid a penalty later.
URL:https://healthsourceri.com/event/virtual-enrollment-info-session-10-19-21/
LOCATION:ZOOM Link
CATEGORIES:Individuals & Families
END:VEVENT
END:VCALENDAR