BEGIN:VCALENDAR
VERSION:2.0
PRODID:-//HealthSource RI - ECPv6.15.20//NONSGML v1.0//EN
CALSCALE:GREGORIAN
METHOD:PUBLISH
X-ORIGINAL-URL:https://healthsourceri.com
X-WR-CALDESC:Events for HealthSource RI
REFRESH-INTERVAL;VALUE=DURATION:PT1H
X-Robots-Tag:noindex
X-PUBLISHED-TTL:PT1H
BEGIN:VTIMEZONE
TZID:America/New_York
BEGIN:DAYLIGHT
TZOFFSETFROM:-0500
TZOFFSETTO:-0400
TZNAME:EDT
DTSTART:20200308T070000
END:DAYLIGHT
BEGIN:STANDARD
TZOFFSETFROM:-0400
TZOFFSETTO:-0500
TZNAME:EST
DTSTART:20201101T060000
END:STANDARD
BEGIN:DAYLIGHT
TZOFFSETFROM:-0500
TZOFFSETTO:-0400
TZNAME:EDT
DTSTART:20210314T070000
END:DAYLIGHT
BEGIN:STANDARD
TZOFFSETFROM:-0400
TZOFFSETTO:-0500
TZNAME:EST
DTSTART:20211107T060000
END:STANDARD
BEGIN:DAYLIGHT
TZOFFSETFROM:-0500
TZOFFSETTO:-0400
TZNAME:EDT
DTSTART:20220313T070000
END:DAYLIGHT
BEGIN:STANDARD
TZOFFSETFROM:-0400
TZOFFSETTO:-0500
TZNAME:EST
DTSTART:20221106T060000
END:STANDARD
END:VTIMEZONE
BEGIN:VEVENT
DTSTART;TZID=America/New_York:20211203T093000
DTEND;TZID=America/New_York:20211203T100000
DTSTAMP:20260422T161833
CREATED:20211006T122319Z
LAST-MODIFIED:20211006T122319Z
UID:14138-1638523800-1638525600@healthsourceri.com
SUMMARY:Virtual Enrollment Info Session - 12.03.21
DESCRIPTION:Open Enrollment is here!\nJoin us for our virtual Enrollment Info Session where you will hear from HealthSource RI and RIHCA staff\, learn more about how we can help you sign up for 2022 health coverage. This presentation is held via ZOOM Webinar. Your privacy is our top priority and attendees will not see each other’s faces\, questions\, or contact information. \nCan’t make the presentation? Don’t worry! Navigators will be available via phone to provide same-day 1-on-1 enrollment support after the presentation.\nSee what dates and times lots are available: https://book.appointment-plus.com/ck1m3d5c/#/ \nTo enroll or renew during your Navigator appointment\, please bring the following documents for all members of your family: \n\nLast 4 weeks of pay stubs\nSocial Security numbers\nMost recent tax return\n\nPrimary applicants should have: \n\nPhoto ID (driver’s license or passport)\nYour HealthSource RI username and password if you’ve already created an account\nAny recent HealthSource RI or Medicaid notices that you have received\n\nHealthSource RI is Rhode Island’s health insurance marketplace\, here to connect you with high-quality\, low-cost or no-cost coverage from top insurers. \nHealth insurance is required in the state of Rhode Island. Sign up today to avoid a penalty later.
URL:https://healthsourceri.com/event/virtual-enrollment-info-session-12-03-21/
LOCATION:ZOOM Link
CATEGORIES:Individuals & Families
END:VEVENT
BEGIN:VEVENT
DTSTART;TZID=America/New_York:20211207T123000
DTEND;TZID=America/New_York:20211207T130000
DTSTAMP:20260422T161833
CREATED:20211006T122613Z
LAST-MODIFIED:20211006T122613Z
UID:14139-1638880200-1638882000@healthsourceri.com
SUMMARY:Virtual Enrollment Info Session - 12.07.21
DESCRIPTION:Open Enrollment is here!\nJoin us for our virtual Enrollment Info Session where you will hear from HealthSource RI and RIHCA staff\, learn more about how we can help you sign up for 2022 health coverage. This presentation is held via ZOOM Webinar. Your privacy is our top priority and attendees will not see each other’s faces\, questions\, or contact information. \nCan’t make the presentation? Don’t worry! Navigators will be available via phone to provide same-day 1-on-1 enrollment support after the presentation.\nSee what dates and times lots are available: https://book.appointment-plus.com/ck1m3d5c/#/ \nTo enroll or renew during your Navigator appointment\, please bring the following documents for all members of your family: \n\nLast 4 weeks of pay stubs\nSocial Security numbers\nMost recent tax return\n\nPrimary applicants should have: \n\nPhoto ID (driver’s license or passport)\nYour HealthSource RI username and password if you’ve already created an account\nAny recent HealthSource RI or Medicaid notices that you have received\n\nHealthSource RI is Rhode Island’s health insurance marketplace\, here to connect you with high-quality\, low-cost or no-cost coverage from top insurers. \nHealth insurance is required in the state of Rhode Island. Sign up today to avoid a penalty later.
URL:https://healthsourceri.com/event/virtual-enrollment-info-session-12-07-21/
LOCATION:ZOOM Link
CATEGORIES:Individuals & Families
END:VEVENT
BEGIN:VEVENT
DTSTART;TZID=America/New_York:20211209T113000
DTEND;TZID=America/New_York:20211209T120000
DTSTAMP:20260422T161833
CREATED:20211006T122854Z
LAST-MODIFIED:20211006T122854Z
UID:14140-1639049400-1639051200@healthsourceri.com
SUMMARY:Virtual Enrollment Info Session - 12.09.21
DESCRIPTION:Open Enrollment is here!\nJoin us for our virtual Enrollment Info Session where you will hear from HealthSource RI and RIHCA staff\, learn more about how we can help you sign up for 2022 health coverage. This presentation is held via ZOOM Webinar. Your privacy is our top priority and attendees will not see each other’s faces\, questions\, or contact information. \nCan’t make the presentation? Don’t worry! Navigators will be available via phone to provide same-day 1-on-1 enrollment support after the presentation.\nSee what dates and times lots are available: https://book.appointment-plus.com/ck1m3d5c/#/ \nTo enroll or renew during your Navigator appointment\, please bring the following documents for all members of your family: \n\nLast 4 weeks of pay stubs\nSocial Security numbers\nMost recent tax return\n\nPrimary applicants should have: \n\nPhoto ID (driver’s license or passport)\nYour HealthSource RI username and password if you’ve already created an account\nAny recent HealthSource RI or Medicaid notices that you have received\n\nHealthSource RI is Rhode Island’s health insurance marketplace\, here to connect you with high-quality\, low-cost or no-cost coverage from top insurers. \nHealth insurance is required in the state of Rhode Island. Sign up today to avoid a penalty later.
URL:https://healthsourceri.com/event/virtual-enrollment-info-session-12-09-21/
LOCATION:ZOOM Link
CATEGORIES:Individuals & Families
END:VEVENT
BEGIN:VEVENT
DTSTART;TZID=America/New_York:20211213T123000
DTEND;TZID=America/New_York:20211213T130000
DTSTAMP:20260422T161833
CREATED:20211006T123130Z
LAST-MODIFIED:20211006T123130Z
UID:14141-1639398600-1639400400@healthsourceri.com
SUMMARY:Virtual Enrollment Info Session - 12.13.21
DESCRIPTION:Open Enrollment is here!\nJoin us for our virtual Enrollment Info Session where you will hear from HealthSource RI and RIHCA staff\, learn more about how we can help you sign up for 2022 health coverage. This presentation is held via ZOOM Webinar. Your privacy is our top priority and attendees will not see each other’s faces\, questions\, or contact information. \nCan’t make the presentation? Don’t worry! Navigators will be available via phone to provide same-day 1-on-1 enrollment support after the presentation.\nSee what dates and times lots are available: https://book.appointment-plus.com/ck1m3d5c/#/ \nTo enroll or renew during your Navigator appointment\, please bring the following documents for all members of your family: \n\nLast 4 weeks of pay stubs\nSocial Security numbers\nMost recent tax return\n\nPrimary applicants should have: \n\nPhoto ID (driver’s license or passport)\nYour HealthSource RI username and password if you’ve already created an account\nAny recent HealthSource RI or Medicaid notices that you have received\n\nHealthSource RI is Rhode Island’s health insurance marketplace\, here to connect you with high-quality\, low-cost or no-cost coverage from top insurers. \nHealth insurance is required in the state of Rhode Island. Sign up today to avoid a penalty later.
URL:https://healthsourceri.com/event/virtual-enrollment-info-session-12-13-21/
LOCATION:ZOOM Link
CATEGORIES:Individuals & Families
END:VEVENT
BEGIN:VEVENT
DTSTART;TZID=America/New_York:20211220T093000
DTEND;TZID=America/New_York:20211220T100000
DTSTAMP:20260422T161833
CREATED:20211006T131010Z
LAST-MODIFIED:20211006T131010Z
UID:14142-1639992600-1639994400@healthsourceri.com
SUMMARY:Virtual Enrollment Info Session - 12.20.21
DESCRIPTION:Open Enrollment is here!\nJoin us for our virtual Enrollment Info Session where you will hear from HealthSource RI and RIHCA staff\, learn more about how we can help you sign up for 2022 health coverage. This presentation is held via ZOOM Webinar. Your privacy is our top priority and attendees will not see each other’s faces\, questions\, or contact information. \nCan’t make the presentation? Don’t worry! Navigators will be available via phone to provide same-day 1-on-1 enrollment support after the presentation.\nSee what dates and times lots are available: https://book.appointment-plus.com/ck1m3d5c/#/ \nTo enroll or renew during your Navigator appointment\, please bring the following documents for all members of your family: \n\nLast 4 weeks of pay stubs\nSocial Security numbers\nMost recent tax return\n\nPrimary applicants should have: \n\nPhoto ID (driver’s license or passport)\nYour HealthSource RI username and password if you’ve already created an account\nAny recent HealthSource RI or Medicaid notices that you have received\n\nHealthSource RI is Rhode Island’s health insurance marketplace\, here to connect you with high-quality\, low-cost or no-cost coverage from top insurers. \nHealth insurance is required in the state of Rhode Island. Sign up today to avoid a penalty later.
URL:https://healthsourceri.com/event/virtual-enrollment-info-session-12-20-21/
LOCATION:ZOOM Link
CATEGORIES:Individuals & Families
END:VEVENT
BEGIN:VEVENT
DTSTART;TZID=America/New_York:20211228T093000
DTEND;TZID=America/New_York:20211228T100000
DTSTAMP:20260422T161833
CREATED:20211006T131257Z
LAST-MODIFIED:20211006T131257Z
UID:14143-1640683800-1640685600@healthsourceri.com
SUMMARY:Virtual Enrollment Info Session - 12.28.21
DESCRIPTION:Open Enrollment is here!\nJoin us for our virtual Enrollment Info Session where you will hear from HealthSource RI and RIHCA staff\, learn more about how we can help you sign up for 2022 health coverage. This presentation is held via ZOOM Webinar. Your privacy is our top priority and attendees will not see each other’s faces\, questions\, or contact information. \nCan’t make the presentation? Don’t worry! Navigators will be available via phone to provide same-day 1-on-1 enrollment support after the presentation.\nSee what dates and times lots are available: https://book.appointment-plus.com/ck1m3d5c/#/ \nTo enroll or renew during your Navigator appointment\, please bring the following documents for all members of your family: \n\nLast 4 weeks of pay stubs\nSocial Security numbers\nMost recent tax return\n\nPrimary applicants should have: \n\nPhoto ID (driver’s license or passport)\nYour HealthSource RI username and password if you’ve already created an account\nAny recent HealthSource RI or Medicaid notices that you have received\n\nHealthSource RI is Rhode Island’s health insurance marketplace\, here to connect you with high-quality\, low-cost or no-cost coverage from top insurers. \nHealth insurance is required in the state of Rhode Island. Sign up today to avoid a penalty later.
URL:https://healthsourceri.com/event/virtual-enrollment-info-session-12-28-21/
LOCATION:ZOOM Link
CATEGORIES:Individuals & Families
END:VEVENT
BEGIN:VEVENT
DTSTART;TZID=America/New_York:20211229T113000
DTEND;TZID=America/New_York:20211229T120000
DTSTAMP:20260422T161833
CREATED:20211006T131530Z
LAST-MODIFIED:20211006T131530Z
UID:14144-1640777400-1640779200@healthsourceri.com
SUMMARY:Virtual Enrollment Info Session - 12.29.21
DESCRIPTION:Open Enrollment is here!\nJoin us for our virtual Enrollment Info Session where you will hear from HealthSource RI and RIHCA staff\, learn more about how we can help you sign up for 2022 health coverage. This presentation is held via ZOOM Webinar. Your privacy is our top priority and attendees will not see each other’s faces\, questions\, or contact information. \nCan’t make the presentation? Don’t worry! Navigators will be available via phone to provide same-day 1-on-1 enrollment support after the presentation.\nSee what dates and times lots are available: https://book.appointment-plus.com/ck1m3d5c/#/ \nTo enroll or renew during your Navigator appointment\, please bring the following documents for all members of your family: \n\nLast 4 weeks of pay stubs\nSocial Security numbers\nMost recent tax return\n\nPrimary applicants should have: \n\nPhoto ID (driver’s license or passport)\nYour HealthSource RI username and password if you’ve already created an account\nAny recent HealthSource RI or Medicaid notices that you have received\n\nHealthSource RI is Rhode Island’s health insurance marketplace\, here to connect you with high-quality\, low-cost or no-cost coverage from top insurers. \nHealth insurance is required in the state of Rhode Island. Sign up today to avoid a penalty later.
URL:https://healthsourceri.com/event/virtual-enrollment-info-session-12-29-21/
LOCATION:ZOOM Link
CATEGORIES:Individuals & Families
END:VEVENT
END:VCALENDAR